BEGIN:VCALENDAR
VERSION:2.0
PRODID:-//YDMU//Events//EN
BEGIN:VEVENT
UID:event-6@ydmu.local
DTSTAMP:20260424T031707Z
DTSTART;TZID=Africa/Dar_es_Salaam:20260613T080000
DTEND;TZID=Africa/Dar_es_Salaam:20260613T180000
SUMMARY:Iringa Youth Digital Meet Up 2026 (YDMU 2026)
DESCRIPTION:Iringa Youth Digital Meet Up 2026 (YDM 2026) is a dynamic youth-focused event designed to bring together innovation\, technology\, and entrepreneurship. \\n \\nOver two impactful days\, the event will gather young people\, students\, entrepreneurs\, and professionals from different fields to learn\, connect\, and gain practical skills that can transform their personal and professional lives.
LOCATION:To be confirmed\, Iringa\,
END:VEVENT
END:VCALENDAR
